BEGIN:VCALENDAR
VERSION:2.0
PRODID:-//The Milner Therapeutics Institute - ECPv6.15.20//NONSGML v1.0//EN
CALSCALE:GREGORIAN
METHOD:PUBLISH
X-ORIGINAL-URL:https://www.milner.cam.ac.uk
X-WR-CALDESC:Events for The Milner Therapeutics Institute
REFRESH-INTERVAL;VALUE=DURATION:PT1H
X-Robots-Tag:noindex
X-PUBLISHED-TTL:PT1H
BEGIN:VTIMEZONE
TZID:UTC
BEGIN:STANDARD
TZOFFSETFROM:+0000
TZOFFSETTO:+0000
TZNAME:UTC
DTSTART:20170101T000000
END:STANDARD
END:VTIMEZONE
BEGIN:VEVENT
DTSTART;TZID=UTC:20180620T090000
DTEND;TZID=UTC:20180620T183000
DTSTAMP:20260423T174421
CREATED:20180504T114235Z
LAST-MODIFIED:20180504T114235Z
UID:1558-1529485200-1529519400@www.milner.cam.ac.uk
SUMMARY:Cambridge Technologies Ventures Conference
DESCRIPTION:CUTEC (Cambridge University Technology & Enterprise Club) has brought together a range of high profile speakers from big tech companies to biotech start-ups\, to discuss the future of biotech in healthcare.
URL:https://www.milner.cam.ac.uk/event/cambridge-technologies-ventures-conference/
LOCATION:Cambridgeshire
END:VEVENT
END:VCALENDAR